BEGIN:VCALENDAR
VERSION:2.0
PRODID:spatie/icalendar-generator
DESCRIPTION:Veranstaltungen von Naturfreunde Rosenheim
X-WR-CALDESC:Veranstaltungen von Naturfreunde Rosenheim
REFRESH-INTERVAL;VALUE=DURATION:PT1440M
X-PUBLISHED-TTL:PT1440M
BEGIN:VTIMEZONE
TZID:Etc/GMT+0
BEGIN:STANDARD
DTSTART:20230812T000000Z
TZOFFSETFROM:+0000
TZOFFSETTO:+0000
END:STANDARD
END:VTIMEZONE
BEGIN:VTIMEZONE
TZID:UTC
BEGIN:STANDARD
DTSTART:20250727T141431Z
TZOFFSETFROM:+0000
TZOFFSETTO:+0000
END:STANDARD
END:VTIMEZONE
BEGIN:VEVENT
UID:104-45
DTSTAMP:20260423T141431Z
SUMMARY:Mittwochswanderung - Schwarzries
LOCATION:
ORGANIZER;CN=admin:MAILTO:vhahn1994@gmail.com
DTSTART;TZID=Etc/GMT+0;VALUE=DATE:20240508
DTEND;TZID=Etc/GMT+0;VALUE=DATE:20240509
X-ALT-DESC;FMTTYPE=TEXT/HTML:leichte Bergwanderung - Schwarzries - Anmeldun
 g bei Hannelore Stürzl eMail:    h.stuerzl@gmx.de Telefon: 08031 83556
CATEGORIES:Wandern &amp; Bergsport
URL;VALUE=URI:https://naturfreunde-rosenheim.de/mc-events/mittwochswanderun
 g-schwarzries/
METHOD:PUBLISH
END:VEVENT
END:VCALENDAR