BEGIN:VCALENDAR
VERSION:2.0
PRODID:spatie/icalendar-generator
DESCRIPTION:Veranstaltungen von Naturfreunde Rosenheim
X-WR-CALDESC:Veranstaltungen von Naturfreunde Rosenheim
REFRESH-INTERVAL;VALUE=DURATION:PT1440M
X-PUBLISHED-TTL:PT1440M
BEGIN:VTIMEZONE
TZID:Etc/GMT+0
BEGIN:STANDARD
DTSTART:20231118T120000Z
TZOFFSETFROM:+0000
TZOFFSETTO:+0000
END:STANDARD
END:VTIMEZONE
BEGIN:VTIMEZONE
TZID:UTC
BEGIN:STANDARD
DTSTART:20250727T122538Z
TZOFFSETFROM:+0000
TZOFFSETTO:+0000
END:STANDARD
END:VTIMEZONE
BEGIN:VEVENT
UID:155-89
DTSTAMP:20260423T122538Z
SUMMARY:Mittwochswanderung mit Hannelore Stürzl - Ziel Mühlau-Buchau
LOCATION:
ORGANIZER;CN=admin:MAILTO:vhahn1994@gmail.com
DTSTART;TZID=Etc/GMT+0:20240814T120000
DTEND;TZID=Etc/GMT+0:20240814T130000
X-ALT-DESC;FMTTYPE=TEXT/HTML:Mühlau – Buchau Mittwochstour mit Hannelore
  Stürz Evtl. Zieländerung – wird bekannt gegeben Anmeldung: h.stuerzl@
 gmx.de\, Telefon: 08031-833556
CATEGORIES:Wandern &amp; Bergsport
URL;VALUE=URI:https://naturfreunde-rosenheim.de/mc-events/mittwochswanderun
 g-mit-hannelore-stuerzl-ziel-muehlau-buchau/
METHOD:PUBLISH
END:VEVENT
END:VCALENDAR