BEGIN:VCALENDAR
VERSION:2.0
PRODID:spatie/icalendar-generator
DESCRIPTION:Veranstaltungen von Naturfreunde Rosenheim
X-WR-CALDESC:Veranstaltungen von Naturfreunde Rosenheim
REFRESH-INTERVAL;VALUE=DURATION:PT1440M
X-PUBLISHED-TTL:PT1440M
BEGIN:VTIMEZONE
TZID:Etc/GMT+0
BEGIN:STANDARD
DTSTART:20241222T190000Z
TZOFFSETFROM:+0000
TZOFFSETTO:+0000
END:STANDARD
END:VTIMEZONE
BEGIN:VTIMEZONE
TZID:UTC
BEGIN:STANDARD
DTSTART:20250724T161908Z
TZOFFSETFROM:+0000
TZOFFSETTO:+0000
END:STANDARD
END:VTIMEZONE
BEGIN:VEVENT
UID:170-104
DTSTAMP:20260420T161908Z
SUMMARY:Fotogruppenabend
LOCATION:
ORGANIZER;CN=Guenter Kratschmayer:MAILTO:guenter.kratschmayer@naturfreunde-
 rosenheim.de
DTSTART;TZID=Etc/GMT+0:20250918T190000
DTEND;TZID=Etc/GMT+0:20250918T200000
X-ALT-DESC;FMTTYPE=TEXT/HTML:Fotogruppenabend am 18.08.2025 um 19.00 Uhr im
  Gasthaus Höhensteiger zum Thema \"Pilze\". Bitte Fotos zur Bildbesprechu
 ng mitbringen.
CATEGORIES:Fotogruppe
URL;VALUE=URI:https://naturfreunde-rosenheim.de/mc-events/fotogruppenabend-
 8/
METHOD:PUBLISH
END:VEVENT
END:VCALENDAR