BEGIN:VCALENDAR
VERSION:2.0
PRODID:spatie/icalendar-generator
DESCRIPTION:Veranstaltungen von Naturfreunde Rosenheim
X-WR-CALDESC:Veranstaltungen von Naturfreunde Rosenheim
REFRESH-INTERVAL;VALUE=DURATION:PT1440M
X-PUBLISHED-TTL:PT1440M
BEGIN:VTIMEZONE
TZID:Etc/GMT+0
BEGIN:STANDARD
DTSTART:20260111T190000Z
TZOFFSETFROM:+0000
TZOFFSETTO:+0000
END:STANDARD
END:VTIMEZONE
BEGIN:VTIMEZONE
TZID:UTC
BEGIN:STANDARD
DTSTART:20250724T231941Z
TZOFFSETFROM:+0000
TZOFFSETTO:+0000
END:STANDARD
END:VTIMEZONE
BEGIN:VEVENT
UID:246-176
DTSTAMP:20260420T231941Z
SUMMARY:Bildbesprechung zum Thema \"Sucht\"
LOCATION:
ORGANIZER;CN=Guenter Kratschmayer:MAILTO:guenter.kratschmayer@naturfreunde-
 rosenheim.de
DTSTART;TZID=Etc/GMT+0:20261008T190000
DTEND;TZID=Etc/GMT+0:20261008T200000
X-ALT-DESC;FMTTYPE=TEXT/HTML:
CATEGORIES:Fotogruppe
URL;VALUE=URI:https://naturfreunde-rosenheim.de/mc-events/bildbesprechung-z
 um-thema-sucht/
METHOD:PUBLISH
END:VEVENT
END:VCALENDAR