BEGIN:VCALENDAR
VERSION:2.0
PRODID:spatie/icalendar-generator
DESCRIPTION:Veranstaltungen von Naturfreunde Rosenheim
X-WR-CALDESC:Veranstaltungen von Naturfreunde Rosenheim
REFRESH-INTERVAL;VALUE=DURATION:PT1440M
X-PUBLISHED-TTL:PT1440M
BEGIN:VTIMEZONE
TZID:Etc/GMT+0
BEGIN:STANDARD
DTSTART:20250525T190000Z
TZOFFSETFROM:+0000
TZOFFSETTO:+0000
END:STANDARD
END:VTIMEZONE
BEGIN:VTIMEZONE
TZID:UTC
BEGIN:STANDARD
DTSTART:20250724T145144Z
TZOFFSETFROM:+0000
TZOFFSETTO:+0000
END:STANDARD
END:VTIMEZONE
BEGIN:VEVENT
UID:249-179
DTSTAMP:20260420T145144Z
SUMMARY:Bildbesprechung zum Thema \"Nachtfotografie\"
LOCATION:Gasthof-Hotel Höhensteiger Westerndorfer Straße 101  Rosenheim
ORGANIZER;CN=Guenter Kratschmayer:MAILTO:guenter.kratschmayer@naturfreunde-
 rosenheim.de
DTSTART;TZID=Etc/GMT+0:20260219T190000
DTEND;TZID=Etc/GMT+0:20260219T200000
X-ALT-DESC;FMTTYPE=TEXT/HTML:
CATEGORIES:Fotogruppe
URL;VALUE=URI:https://naturfreunde-rosenheim.de/mc-events/bildbesprechung-z
 um-thema-nachtfotografie/
METHOD:PUBLISH
END:VEVENT
END:VCALENDAR