BEGIN:VCALENDAR
VERSION:2.0
PRODID:spatie/icalendar-generator
DESCRIPTION:Veranstaltungen von Naturfreunde Rosenheim
X-WR-CALDESC:Veranstaltungen von Naturfreunde Rosenheim
REFRESH-INTERVAL;VALUE=DURATION:PT1440M
X-PUBLISHED-TTL:PT1440M
BEGIN:VTIMEZONE
TZID:Etc/GMT+0
BEGIN:STANDARD
DTSTART:20250810T190000Z
TZOFFSETFROM:+0000
TZOFFSETTO:+0000
END:STANDARD
END:VTIMEZONE
BEGIN:VTIMEZONE
TZID:UTC
BEGIN:STANDARD
DTSTART:20250724T160954Z
TZOFFSETFROM:+0000
TZOFFSETTO:+0000
END:STANDARD
END:VTIMEZONE
BEGIN:VEVENT
UID:242-172
DTSTAMP:20260420T160954Z
SUMMARY:Bildbesprechung zum Thema \"Froschperspektive\"
LOCATION:
ORGANIZER;CN=Guenter Kratschmayer:MAILTO:guenter.kratschmayer@naturfreunde-
 rosenheim.de
DTSTART;TZID=Etc/GMT+0:20260507T190000
DTEND;TZID=Etc/GMT+0:20260507T200000
X-ALT-DESC;FMTTYPE=TEXT/HTML:
CATEGORIES:Fotogruppe
URL;VALUE=URI:https://naturfreunde-rosenheim.de/mc-events/bildbesprechung-z
 um-thema-froschperspektive/
METHOD:PUBLISH
END:VEVENT
END:VCALENDAR