BEGIN:VCALENDAR
VERSION:2.0
PRODID:spatie/icalendar-generator
DESCRIPTION:Veranstaltungen von Naturfreunde Rosenheim
X-WR-CALDESC:Veranstaltungen von Naturfreunde Rosenheim
REFRESH-INTERVAL;VALUE=DURATION:PT1440M
X-PUBLISHED-TTL:PT1440M
BEGIN:VTIMEZONE
TZID:Etc/GMT+0
BEGIN:STANDARD
DTSTART:20260215T190000Z
TZOFFSETFROM:+0000
TZOFFSETTO:+0000
END:STANDARD
END:VTIMEZONE
BEGIN:VTIMEZONE
TZID:UTC
BEGIN:STANDARD
DTSTART:20250725T024323Z
TZOFFSETFROM:+0000
TZOFFSETTO:+0000
END:STANDARD
END:VTIMEZONE
BEGIN:VEVENT
UID:247-177
DTSTAMP:20260421T024323Z
SUMMARY:Besprechung zum Thema \"Herbstwald\"
LOCATION:
ORGANIZER;CN=Guenter Kratschmayer:MAILTO:guenter.kratschmayer@naturfreunde-
 rosenheim.de
DTSTART;TZID=Etc/GMT+0:20261112T190000
DTEND;TZID=Etc/GMT+0:20261112T200000
X-ALT-DESC;FMTTYPE=TEXT/HTML:
CATEGORIES:Fotogruppe
URL;VALUE=URI:https://naturfreunde-rosenheim.de/mc-events/besprechung-zum-t
 hema-herbstwald/
METHOD:PUBLISH
END:VEVENT
END:VCALENDAR